BEGIN:VCALENDAR
VERSION:2.0
PRODID:-//Overton Park Conservancy - ECPv6.15.17.1//NONSGML v1.0//EN
CALSCALE:GREGORIAN
METHOD:PUBLISH
X-ORIGINAL-URL:https://overtonpark.org
X-WR-CALDESC:Events for Overton Park Conservancy
REFRESH-INTERVAL;VALUE=DURATION:PT1H
X-Robots-Tag:noindex
X-PUBLISHED-TTL:PT1H
BEGIN:VTIMEZONE
TZID:America/Chicago
BEGIN:DAYLIGHT
TZOFFSETFROM:-0600
TZOFFSETTO:-0500
TZNAME:CDT
DTSTART:20240310T080000
END:DAYLIGHT
BEGIN:STANDARD
TZOFFSETFROM:-0500
TZOFFSETTO:-0600
TZNAME:CST
DTSTART:20241103T070000
END:STANDARD
BEGIN:DAYLIGHT
TZOFFSETFROM:-0600
TZOFFSETTO:-0500
TZNAME:CDT
DTSTART:20250309T080000
END:DAYLIGHT
BEGIN:STANDARD
TZOFFSETFROM:-0500
TZOFFSETTO:-0600
TZNAME:CST
DTSTART:20251102T070000
END:STANDARD
BEGIN:DAYLIGHT
TZOFFSETFROM:-0600
TZOFFSETTO:-0500
TZNAME:CDT
DTSTART:20260308T080000
END:DAYLIGHT
BEGIN:STANDARD
TZOFFSETFROM:-0500
TZOFFSETTO:-0600
TZNAME:CST
DTSTART:20261101T070000
END:STANDARD
BEGIN:DAYLIGHT
TZOFFSETFROM:-0600
TZOFFSETTO:-0500
TZNAME:CDT
DTSTART:20270314T080000
END:DAYLIGHT
BEGIN:STANDARD
TZOFFSETFROM:-0500
TZOFFSETTO:-0600
TZNAME:CST
DTSTART:20271107T070000
END:STANDARD
END:VTIMEZONE
BEGIN:VEVENT
DTSTART;TZID=America/Chicago:20260121T161500
DTEND;TZID=America/Chicago:20260121T170000
DTSTAMP:20260421T101910
CREATED:20251209T194104Z
LAST-MODIFIED:20251209T194320Z
UID:10002575-1769012100-1769014800@overtonpark.org
SUMMARY:Wednesday Walks
DESCRIPTION:Working from home and need a reason to get out of the house? Want to stretch your legs and meet someone new? Does the dog need to take a stroll? \nIf you answered yes to any of those question\, join us for a casual stroll around the Old Forest paved road! No agenda\, just a chance to meet new people and get a walk in. \nThe route will be the 1.4 loop around the forest and is on the accessible pavement. Leashed dogs are welcome – please BYO poop baggies! \nDates: Wednesdays (Check our events calendar for exceptions) \nTime: 4:15pm \nWhere:  Rainbow Lake Playground Information Kiosk  \n \nBy attending and participating you agree to our Waiver and Release of Liability. \nQuestions? Email us! 
URL:https://overtonpark.org/event/wednesday-walks-2/2026-01-21/
LOCATION:Rainbow Lake\, 2080 Poplar Ave\, Memphis\, TN\, 38104
CATEGORIES:Health and Wellness,Run/Walk
ATTACH;FMTTYPE=image/jpeg:https://overtonpark.org/wp-content/uploads/2025/05/Walk-Format-scaled.jpg
ORGANIZER;CN="Overton Park Conservancy":MAILTO:info@overtonpark.org
END:VEVENT
BEGIN:VEVENT
DTSTART;TZID=America/Chicago:20260114T161500
DTEND;TZID=America/Chicago:20260114T170000
DTSTAMP:20260421T101910
CREATED:20251209T194104Z
LAST-MODIFIED:20251209T194320Z
UID:10002574-1768407300-1768410000@overtonpark.org
SUMMARY:Wednesday Walks
DESCRIPTION:Working from home and need a reason to get out of the house? Want to stretch your legs and meet someone new? Does the dog need to take a stroll? \nIf you answered yes to any of those question\, join us for a casual stroll around the Old Forest paved road! No agenda\, just a chance to meet new people and get a walk in. \nThe route will be the 1.4 loop around the forest and is on the accessible pavement. Leashed dogs are welcome – please BYO poop baggies! \nDates: Wednesdays (Check our events calendar for exceptions) \nTime: 4:15pm \nWhere:  Rainbow Lake Playground Information Kiosk  \n \nBy attending and participating you agree to our Waiver and Release of Liability. \nQuestions? Email us! 
URL:https://overtonpark.org/event/wednesday-walks-2/2026-01-14/
LOCATION:Rainbow Lake\, 2080 Poplar Ave\, Memphis\, TN\, 38104
CATEGORIES:Health and Wellness,Run/Walk
ATTACH;FMTTYPE=image/jpeg:https://overtonpark.org/wp-content/uploads/2025/05/Walk-Format-scaled.jpg
ORGANIZER;CN="Overton Park Conservancy":MAILTO:info@overtonpark.org
END:VEVENT
BEGIN:VEVENT
DTSTART;TZID=America/Chicago:20260107T161500
DTEND;TZID=America/Chicago:20260107T170000
DTSTAMP:20260421T101910
CREATED:20251209T194104Z
LAST-MODIFIED:20251209T194320Z
UID:10002573-1767802500-1767805200@overtonpark.org
SUMMARY:Wednesday Walks
DESCRIPTION:Working from home and need a reason to get out of the house? Want to stretch your legs and meet someone new? Does the dog need to take a stroll? \nIf you answered yes to any of those question\, join us for a casual stroll around the Old Forest paved road! No agenda\, just a chance to meet new people and get a walk in. \nThe route will be the 1.4 loop around the forest and is on the accessible pavement. Leashed dogs are welcome – please BYO poop baggies! \nDates: Wednesdays (Check our events calendar for exceptions) \nTime: 4:15pm \nWhere:  Rainbow Lake Playground Information Kiosk  \n \nBy attending and participating you agree to our Waiver and Release of Liability. \nQuestions? Email us! 
URL:https://overtonpark.org/event/wednesday-walks-2/2026-01-07/
LOCATION:Rainbow Lake\, 2080 Poplar Ave\, Memphis\, TN\, 38104
CATEGORIES:Health and Wellness,Run/Walk
ATTACH;FMTTYPE=image/jpeg:https://overtonpark.org/wp-content/uploads/2025/05/Walk-Format-scaled.jpg
ORGANIZER;CN="Overton Park Conservancy":MAILTO:info@overtonpark.org
END:VEVENT
BEGIN:VEVENT
DTSTART;TZID=America/Chicago:20251217T161500
DTEND;TZID=America/Chicago:20251217T170000
DTSTAMP:20260421T101910
CREATED:20251209T194104Z
LAST-MODIFIED:20251209T194320Z
UID:10002250-1765988100-1765990800@overtonpark.org
SUMMARY:Wednesday Walks
DESCRIPTION:Working from home and need a reason to get out of the house? Want to stretch your legs and meet someone new? Does the dog need to take a stroll? \nIf you answered yes to any of those question\, join us for a casual stroll around the Old Forest paved road! No agenda\, just a chance to meet new people and get a walk in. \nThe route will be the 1.4 loop around the forest and is on the accessible pavement. Leashed dogs are welcome – please BYO poop baggies! \nDates: Wednesdays (Check our events calendar for exceptions) \nTime: 4:15pm \nWhere:  Rainbow Lake Playground Information Kiosk  \n \nBy attending and participating you agree to our Waiver and Release of Liability. \nQuestions? Email us! 
URL:https://overtonpark.org/event/wednesday-walks-2/2025-12-17/
LOCATION:Rainbow Lake\, 2080 Poplar Ave\, Memphis\, TN\, 38104
CATEGORIES:Health and Wellness,Run/Walk
ATTACH;FMTTYPE=image/jpeg:https://overtonpark.org/wp-content/uploads/2025/05/Walk-Format-scaled.jpg
ORGANIZER;CN="Overton Park Conservancy":MAILTO:info@overtonpark.org
END:VEVENT
BEGIN:VEVENT
DTSTART;TZID=America/Chicago:20251210T161500
DTEND;TZID=America/Chicago:20251210T170000
DTSTAMP:20260421T101910
CREATED:20251209T194104Z
LAST-MODIFIED:20251209T194320Z
UID:10002249-1765383300-1765386000@overtonpark.org
SUMMARY:Wednesday Walks
DESCRIPTION:Working from home and need a reason to get out of the house? Want to stretch your legs and meet someone new? Does the dog need to take a stroll? \nIf you answered yes to any of those question\, join us for a casual stroll around the Old Forest paved road! No agenda\, just a chance to meet new people and get a walk in. \nThe route will be the 1.4 loop around the forest and is on the accessible pavement. Leashed dogs are welcome – please BYO poop baggies! \nDates: Wednesdays (Check our events calendar for exceptions) \nTime: 4:15pm \nWhere:  Rainbow Lake Playground Information Kiosk  \n \nBy attending and participating you agree to our Waiver and Release of Liability. \nQuestions? Email us! 
URL:https://overtonpark.org/event/wednesday-walks-2/2025-12-10/
LOCATION:Rainbow Lake\, 2080 Poplar Ave\, Memphis\, TN\, 38104
CATEGORIES:Health and Wellness,Run/Walk
ATTACH;FMTTYPE=image/jpeg:https://overtonpark.org/wp-content/uploads/2025/05/Walk-Format-scaled.jpg
ORGANIZER;CN="Overton Park Conservancy":MAILTO:info@overtonpark.org
END:VEVENT
BEGIN:VEVENT
DTSTART;TZID=America/Chicago:20251203T161500
DTEND;TZID=America/Chicago:20251203T170000
DTSTAMP:20260421T101910
CREATED:20240530T161919Z
LAST-MODIFIED:20250716T150237Z
UID:10002248-1764778500-1764781200@overtonpark.org
SUMMARY:Wednesday Walks
DESCRIPTION:  \nWorking from home and need a reason to get out of the house? Want to stretch your legs and meet someone new? Does the dog need to take a stroll? \nIf you answered yes to any of those question\, join us for a casual stroll around the Old Forest paved road! No agenda\, just a chance to meet new people and get a walk in. \nThe route will be the 1.4 loop around the forest and is on the accessible pavement. Leashed dogs are welcome – please BYO poop baggies! \nDates: Wednesdays (Check our events calendar for exceptions) \nTime: 4:15pm \nWhere:  Rainbow Lake Playground Information Kiosk  \n  \nBy attending and participating you agree to our Waiver and Release of Liability. \nQuestions? Email us! 
URL:https://overtonpark.org/event/wednesday-walks-2025-04-02/2025-12-03/
LOCATION:Rainbow Lake\, 2080 Poplar Ave\, Memphis\, TN\, 38104
CATEGORIES:Health and Wellness,Run/Walk
ATTACH;FMTTYPE=image/jpeg:https://overtonpark.org/wp-content/uploads/2025/05/Walk-Format-scaled.jpg
ORGANIZER;CN="Overton Park Conservancy":MAILTO:info@overtonpark.org
END:VEVENT
BEGIN:VEVENT
DTSTART;TZID=America/Chicago:20251126T161500
DTEND;TZID=America/Chicago:20251126T170000
DTSTAMP:20260421T101910
CREATED:20240530T161919Z
LAST-MODIFIED:20250716T150237Z
UID:10002247-1764173700-1764176400@overtonpark.org
SUMMARY:Wednesday Walks
DESCRIPTION:  \nWorking from home and need a reason to get out of the house? Want to stretch your legs and meet someone new? Does the dog need to take a stroll? \nIf you answered yes to any of those question\, join us for a casual stroll around the Old Forest paved road! No agenda\, just a chance to meet new people and get a walk in. \nThe route will be the 1.4 loop around the forest and is on the accessible pavement. Leashed dogs are welcome – please BYO poop baggies! \nDates: Wednesdays (Check our events calendar for exceptions) \nTime: 4:15pm \nWhere:  Rainbow Lake Playground Information Kiosk  \n  \nBy attending and participating you agree to our Waiver and Release of Liability. \nQuestions? Email us! 
URL:https://overtonpark.org/event/wednesday-walks-2025-04-02/2025-11-26/
LOCATION:Rainbow Lake\, 2080 Poplar Ave\, Memphis\, TN\, 38104
CATEGORIES:Health and Wellness,Run/Walk
ATTACH;FMTTYPE=image/jpeg:https://overtonpark.org/wp-content/uploads/2025/05/Walk-Format-scaled.jpg
ORGANIZER;CN="Overton Park Conservancy":MAILTO:info@overtonpark.org
END:VEVENT
BEGIN:VEVENT
DTSTART;TZID=America/Chicago:20251119T161500
DTEND;TZID=America/Chicago:20251119T170000
DTSTAMP:20260421T101910
CREATED:20240530T161919Z
LAST-MODIFIED:20250716T150237Z
UID:10002246-1763568900-1763571600@overtonpark.org
SUMMARY:Wednesday Walks
DESCRIPTION:  \nWorking from home and need a reason to get out of the house? Want to stretch your legs and meet someone new? Does the dog need to take a stroll? \nIf you answered yes to any of those question\, join us for a casual stroll around the Old Forest paved road! No agenda\, just a chance to meet new people and get a walk in. \nThe route will be the 1.4 loop around the forest and is on the accessible pavement. Leashed dogs are welcome – please BYO poop baggies! \nDates: Wednesdays (Check our events calendar for exceptions) \nTime: 4:15pm \nWhere:  Rainbow Lake Playground Information Kiosk  \n  \nBy attending and participating you agree to our Waiver and Release of Liability. \nQuestions? Email us! 
URL:https://overtonpark.org/event/wednesday-walks-2025-04-02/2025-11-19/
LOCATION:Rainbow Lake\, 2080 Poplar Ave\, Memphis\, TN\, 38104
CATEGORIES:Health and Wellness,Run/Walk
ATTACH;FMTTYPE=image/jpeg:https://overtonpark.org/wp-content/uploads/2025/05/Walk-Format-scaled.jpg
ORGANIZER;CN="Overton Park Conservancy":MAILTO:info@overtonpark.org
END:VEVENT
BEGIN:VEVENT
DTSTART;TZID=America/Chicago:20251112T161500
DTEND;TZID=America/Chicago:20251112T170000
DTSTAMP:20260421T101910
CREATED:20240530T161919Z
LAST-MODIFIED:20250716T150237Z
UID:10002245-1762964100-1762966800@overtonpark.org
SUMMARY:Wednesday Walks
DESCRIPTION:  \nWorking from home and need a reason to get out of the house? Want to stretch your legs and meet someone new? Does the dog need to take a stroll? \nIf you answered yes to any of those question\, join us for a casual stroll around the Old Forest paved road! No agenda\, just a chance to meet new people and get a walk in. \nThe route will be the 1.4 loop around the forest and is on the accessible pavement. Leashed dogs are welcome – please BYO poop baggies! \nDates: Wednesdays (Check our events calendar for exceptions) \nTime: 4:15pm \nWhere:  Rainbow Lake Playground Information Kiosk  \n  \nBy attending and participating you agree to our Waiver and Release of Liability. \nQuestions? Email us! 
URL:https://overtonpark.org/event/wednesday-walks-2025-04-02/2025-11-12/
LOCATION:Rainbow Lake\, 2080 Poplar Ave\, Memphis\, TN\, 38104
CATEGORIES:Health and Wellness,Run/Walk
ATTACH;FMTTYPE=image/jpeg:https://overtonpark.org/wp-content/uploads/2025/05/Walk-Format-scaled.jpg
ORGANIZER;CN="Overton Park Conservancy":MAILTO:info@overtonpark.org
END:VEVENT
BEGIN:VEVENT
DTSTART;TZID=America/Chicago:20251105T161500
DTEND;TZID=America/Chicago:20251105T170000
DTSTAMP:20260421T101910
CREATED:20240530T161919Z
LAST-MODIFIED:20250716T150237Z
UID:10002244-1762359300-1762362000@overtonpark.org
SUMMARY:Wednesday Walks
DESCRIPTION:  \nWorking from home and need a reason to get out of the house? Want to stretch your legs and meet someone new? Does the dog need to take a stroll? \nIf you answered yes to any of those question\, join us for a casual stroll around the Old Forest paved road! No agenda\, just a chance to meet new people and get a walk in. \nThe route will be the 1.4 loop around the forest and is on the accessible pavement. Leashed dogs are welcome – please BYO poop baggies! \nDates: Wednesdays (Check our events calendar for exceptions) \nTime: 4:15pm \nWhere:  Rainbow Lake Playground Information Kiosk  \n  \nBy attending and participating you agree to our Waiver and Release of Liability. \nQuestions? Email us! 
URL:https://overtonpark.org/event/wednesday-walks-2025-04-02/2025-11-05/
LOCATION:Rainbow Lake\, 2080 Poplar Ave\, Memphis\, TN\, 38104
CATEGORIES:Health and Wellness,Run/Walk
ATTACH;FMTTYPE=image/jpeg:https://overtonpark.org/wp-content/uploads/2025/05/Walk-Format-scaled.jpg
ORGANIZER;CN="Overton Park Conservancy":MAILTO:info@overtonpark.org
END:VEVENT
BEGIN:VEVENT
DTSTART;TZID=America/Chicago:20251029T161500
DTEND;TZID=America/Chicago:20251029T170000
DTSTAMP:20260421T101910
CREATED:20251029T182920Z
LAST-MODIFIED:20251029T182950Z
UID:10002243-1761754500-1761757200@overtonpark.org
SUMMARY:Wednesday Walks
DESCRIPTION:  \nWorking from home and need a reason to get out of the house? Want to stretch your legs and meet someone new? Does the dog need to take a stroll? \nIf you answered yes to any of those question\, join us for a casual stroll around the Old Forest paved road! No agenda\, just a chance to meet new people and get a walk in. \nThe route will be the 1.4 loop around the forest and is on the accessible pavement. Leashed dogs are welcome – please BYO poop baggies! \nDates: Wednesdays (Check our events calendar for exceptions) \nTime: 4:15pm \nWhere:  Rainbow Lake Playground Information Kiosk  \n  \nBy attending and participating you agree to our Waiver and Release of Liability. \nQuestions? Email us! 
URL:https://overtonpark.org/event/wednesday-walks/
LOCATION:Rainbow Lake\, 2080 Poplar Ave\, Memphis\, TN\, 38104
CATEGORIES:Health and Wellness,Run/Walk
ATTACH;FMTTYPE=image/jpeg:https://overtonpark.org/wp-content/uploads/2025/05/Walk-Format-scaled.jpg
ORGANIZER;CN="Overton Park Conservancy":MAILTO:info@overtonpark.org
END:VEVENT
BEGIN:VEVENT
DTSTART;TZID=America/Chicago:20251022T161500
DTEND;TZID=America/Chicago:20251022T170000
DTSTAMP:20260421T101910
CREATED:20240530T161919Z
LAST-MODIFIED:20250716T150237Z
UID:10002242-1761149700-1761152400@overtonpark.org
SUMMARY:Wednesday Walks
DESCRIPTION:  \nWorking from home and need a reason to get out of the house? Want to stretch your legs and meet someone new? Does the dog need to take a stroll? \nIf you answered yes to any of those question\, join us for a casual stroll around the Old Forest paved road! No agenda\, just a chance to meet new people and get a walk in. \nThe route will be the 1.4 loop around the forest and is on the accessible pavement. Leashed dogs are welcome – please BYO poop baggies! \nDates: Wednesdays (Check our events calendar for exceptions) \nTime: 4:15pm \nWhere:  Rainbow Lake Playground Information Kiosk  \n  \nBy attending and participating you agree to our Waiver and Release of Liability. \nQuestions? Email us! 
URL:https://overtonpark.org/event/wednesday-walks-2025-04-02/2025-10-22/
LOCATION:Rainbow Lake\, 2080 Poplar Ave\, Memphis\, TN\, 38104
CATEGORIES:Health and Wellness,Run/Walk
ATTACH;FMTTYPE=image/jpeg:https://overtonpark.org/wp-content/uploads/2025/05/Walk-Format-scaled.jpg
ORGANIZER;CN="Overton Park Conservancy":MAILTO:info@overtonpark.org
END:VEVENT
END:VCALENDAR