BEGIN:VCALENDAR
VERSION:2.0
PRODID:-//Overton Park Conservancy - ECPv6.15.17.1//NONSGML v1.0//EN
CALSCALE:GREGORIAN
METHOD:PUBLISH
X-ORIGINAL-URL:https://overtonpark.org
X-WR-CALDESC:Events for Overton Park Conservancy
REFRESH-INTERVAL;VALUE=DURATION:PT1H
X-Robots-Tag:noindex
X-PUBLISHED-TTL:PT1H
BEGIN:VTIMEZONE
TZID:America/Chicago
BEGIN:DAYLIGHT
TZOFFSETFROM:-0600
TZOFFSETTO:-0500
TZNAME:CDT
DTSTART:20240310T080000
END:DAYLIGHT
BEGIN:STANDARD
TZOFFSETFROM:-0500
TZOFFSETTO:-0600
TZNAME:CST
DTSTART:20241103T070000
END:STANDARD
BEGIN:DAYLIGHT
TZOFFSETFROM:-0600
TZOFFSETTO:-0500
TZNAME:CDT
DTSTART:20250309T080000
END:DAYLIGHT
BEGIN:STANDARD
TZOFFSETFROM:-0500
TZOFFSETTO:-0600
TZNAME:CST
DTSTART:20251102T070000
END:STANDARD
BEGIN:DAYLIGHT
TZOFFSETFROM:-0600
TZOFFSETTO:-0500
TZNAME:CDT
DTSTART:20260308T080000
END:DAYLIGHT
BEGIN:STANDARD
TZOFFSETFROM:-0500
TZOFFSETTO:-0600
TZNAME:CST
DTSTART:20261101T070000
END:STANDARD
END:VTIMEZONE
BEGIN:VEVENT
DTSTART;TZID=America/Chicago:20251113T163000
DTEND;TZID=America/Chicago:20251113T173000
DTSTAMP:20260420T082527
CREATED:20251110T212946Z
LAST-MODIFIED:20251110T213150Z
UID:10002334-1763051400-1763055000@overtonpark.org
SUMMARY:Nature Journaling
DESCRIPTION:Spark your curiosity\, channel your attention\, and record your wonder in Overton Park.  \nEmbark on a journey of observation and inquiry with our Nature Journaling workshop. Whether you’re a beginner or looking to deepen your practice\, this session will guide you in capturing the beauty of the natural world through writing and art. \nBring your own notebook and writing materials. We will have a limited selection of art supplies and portable seating to share.  \nCome ready to explore\, create\, and connect with nature!  \nDate: Tuesdays in October and November\, beginning October 14 Rescheduled to Thursday\, Nov 13 for weather. \nTime: 4:30pm \nLocation: The group will meet at the Veterans Plaza (1930 Poplar Ave) \nSurfaces: Paved surfaces \n\nQuestions? Email info@overtonpark.org. \nOverton Park Conservancy is the nonprofit organization that has been caring for Memphis’s central green space since 2012. With the generous support of our community\, we work each day to make the park a beautiful and welcoming place for all Memphians\, as well as a valuable source of urban habitat for wildlife. \nThe Conservancy must raise roughly 85% of our budget each year from people like you who care about the many things Overton Park has to offer. A gift of any amount helps us maintain and improve the park.
URL:https://overtonpark.org/event/nature-journaling-4/
LOCATION:East Parkway Pavilion\, 389 E. Parkway N.\, Memphis\, TN\, 38112
CATEGORIES:Art,NatureZen Month
ATTACH;FMTTYPE=image/jpeg:https://overtonpark.org/wp-content/uploads/2025/05/Nature-Journaling-scaled.jpg
ORGANIZER;CN="Overton Park Conservancy":MAILTO:info@overtonpark.org
END:VEVENT
BEGIN:VEVENT
DTSTART;TZID=America/Chicago:20251104T163000
DTEND;TZID=America/Chicago:20251104T173000
DTSTAMP:20260420T082527
CREATED:20250717T164944Z
LAST-MODIFIED:20250917T160510Z
UID:10002333-1762273800-1762277400@overtonpark.org
SUMMARY:Nature Journaling
DESCRIPTION:Spark your curiosity\, channel your attention\, and record your wonder in Overton Park.  \nEmbark on a journey of observation and inquiry with our Nature Journaling workshop. Whether you’re a beginner or looking to deepen your practice\, this session will guide you in capturing the beauty of the natural world through writing and art. \nBring your own notebook and writing materials. We will have a limited selection of art supplies and portable seating to share.  \nCome ready to explore\, create\, and connect with nature!  \nDate: Tuesdays in October and November\, beginning October 14 \nTime: 4:30pm \nLocation: The group will meet at the East Parkway Old Forest Gateway (389 E Parkway N) \nSurfaces: We will gently journey into the Old Forest\, and walking surfaces may include roads\, limestone gravel trails\, or natural trails within the Old Forest depending on group considerations and activities. \n\nQuestions? Email info@overtonpark.org. \nOverton Park Conservancy is the nonprofit organization that has been caring for Memphis’s central green space since 2012. With the generous support of our community\, we work each day to make the park a beautiful and welcoming place for all Memphians\, as well as a valuable source of urban habitat for wildlife. \nThe Conservancy must raise roughly 85% of our budget each year from people like you who care about the many things Overton Park has to offer. A gift of any amount helps us maintain and improve the park.
URL:https://overtonpark.org/event/nature-journaling/2025-11-04/
LOCATION:East Parkway Pavilion\, 389 E. Parkway N.\, Memphis\, TN\, 38112
CATEGORIES:Art,NatureZen Month
ATTACH;FMTTYPE=image/jpeg:https://overtonpark.org/wp-content/uploads/2025/05/Nature-Journaling-scaled.jpg
ORGANIZER;CN="Overton Park Conservancy":MAILTO:info@overtonpark.org
END:VEVENT
BEGIN:VEVENT
DTSTART;TZID=America/Chicago:20251028T163000
DTEND;TZID=America/Chicago:20251028T173000
DTSTAMP:20260420T082527
CREATED:20251028T154206Z
LAST-MODIFIED:20251028T155628Z
UID:10002332-1761669000-1761672600@overtonpark.org
SUMMARY:Nature Journaling [updated location]
DESCRIPTION:Spark your curiosity\, channel your attention\, and record your wonder in Overton Park.  \nEmbark on a journey of observation and inquiry with our Nature Journaling workshop. Whether you’re a beginner or looking to deepen your practice\, this session will guide you in capturing the beauty of the natural world through writing and art. \nBring your own notebook and writing materials. We will have a limited selection of art supplies and portable seating to share.  \nCome ready to explore\, create\, and connect with nature!  \nDate: Tuesdays in October and November\, beginning October 14 \nTime: 4:30pm \nLocation: Due to rain on 10/28\, the group will meet in the Golf Clubhouse (2080 Poplar Ave) \n  \n\nQuestions? Email info@overtonpark.org. \nOverton Park Conservancy is the nonprofit organization that has been caring for Memphis’s central green space since 2012. With the generous support of our community\, we work each day to make the park a beautiful and welcoming place for all Memphians\, as well as a valuable source of urban habitat for wildlife. \nThe Conservancy must raise roughly 85% of our budget each year from people like you who care about the many things Overton Park has to offer. A gift of any amount helps us maintain and improve the park.
URL:https://overtonpark.org/event/nature-journaling-2/
LOCATION:East Parkway Pavilion\, 389 E. Parkway N.\, Memphis\, TN\, 38112
CATEGORIES:Art,NatureZen Month
ATTACH;FMTTYPE=image/jpeg:https://overtonpark.org/wp-content/uploads/2025/05/Nature-Journaling-scaled.jpg
ORGANIZER;CN="Overton Park Conservancy":MAILTO:info@overtonpark.org
END:VEVENT
BEGIN:VEVENT
DTSTART;TZID=America/Chicago:20251025T080000
DTEND;TZID=America/Chicago:20251025T110000
DTSTAMP:20260420T082527
CREATED:20250909T190939Z
LAST-MODIFIED:20251001T181354Z
UID:10002470-1761379200-1761390000@overtonpark.org
SUMMARY:Overton Park 5 Mile Classic 50th Anniversary
DESCRIPTION:Come out and run the 50th edition of Memphis’ oldest footrace! The 5 mile course is challenging going on trails\, grass and roads through Overton Park. Start (8am) and finish will be in the East Parkway Pavilion area. Runners will receive a commemorative shirt and beer mug. Awards to the top 3 finishers in each age group\, plus Masters and Grand Masters divisions. \n\n\n\n\n7:00 am – Packet Pickup opens\n\n\n\n8:00 am – 5 Miler Starts\n\n\n\n9:15 am – Awards Ceremony\n\n\n\n\nRegister here.
URL:https://overtonpark.org/event/overton-park-5-mile-classic-50th-anniversary/
LOCATION:East Parkway Pavilion\, 389 E. Parkway N.\, Memphis\, TN\, 38112
CATEGORIES:NatureZen Month,Run/Walk
ATTACH;FMTTYPE=image/jpeg:https://overtonpark.org/wp-content/uploads/2025/09/5mileclassic.jpg
END:VEVENT
BEGIN:VEVENT
DTSTART;TZID=America/Chicago:20251021T163000
DTEND;TZID=America/Chicago:20251021T173000
DTSTAMP:20260420T082527
CREATED:20250717T164944Z
LAST-MODIFIED:20250917T160510Z
UID:10002331-1761064200-1761067800@overtonpark.org
SUMMARY:Nature Journaling
DESCRIPTION:Spark your curiosity\, channel your attention\, and record your wonder in Overton Park.  \nEmbark on a journey of observation and inquiry with our Nature Journaling workshop. Whether you’re a beginner or looking to deepen your practice\, this session will guide you in capturing the beauty of the natural world through writing and art. \nBring your own notebook and writing materials. We will have a limited selection of art supplies and portable seating to share.  \nCome ready to explore\, create\, and connect with nature!  \nDate: Tuesdays in October and November\, beginning October 14 \nTime: 4:30pm \nLocation: The group will meet at the East Parkway Old Forest Gateway (389 E Parkway N) \nSurfaces: We will gently journey into the Old Forest\, and walking surfaces may include roads\, limestone gravel trails\, or natural trails within the Old Forest depending on group considerations and activities. \n\nQuestions? Email info@overtonpark.org. \nOverton Park Conservancy is the nonprofit organization that has been caring for Memphis’s central green space since 2012. With the generous support of our community\, we work each day to make the park a beautiful and welcoming place for all Memphians\, as well as a valuable source of urban habitat for wildlife. \nThe Conservancy must raise roughly 85% of our budget each year from people like you who care about the many things Overton Park has to offer. A gift of any amount helps us maintain and improve the park.
URL:https://overtonpark.org/event/nature-journaling/2025-10-21/
LOCATION:East Parkway Pavilion\, 389 E. Parkway N.\, Memphis\, TN\, 38112
CATEGORIES:Art,NatureZen Month
ATTACH;FMTTYPE=image/jpeg:https://overtonpark.org/wp-content/uploads/2025/05/Nature-Journaling-scaled.jpg
ORGANIZER;CN="Overton Park Conservancy":MAILTO:info@overtonpark.org
END:VEVENT
END:VCALENDAR