BEGIN:VCALENDAR
VERSION:2.0
PRODID:-//Overton Park Conservancy - ECPv6.15.17.1//NONSGML v1.0//EN
CALSCALE:GREGORIAN
METHOD:PUBLISH
X-ORIGINAL-URL:https://overtonpark.org
X-WR-CALDESC:Events for Overton Park Conservancy
REFRESH-INTERVAL;VALUE=DURATION:PT1H
X-Robots-Tag:noindex
X-PUBLISHED-TTL:PT1H
BEGIN:VTIMEZONE
TZID:America/Chicago
BEGIN:DAYLIGHT
TZOFFSETFROM:-0600
TZOFFSETTO:-0500
TZNAME:CDT
DTSTART:20240310T080000
END:DAYLIGHT
BEGIN:STANDARD
TZOFFSETFROM:-0500
TZOFFSETTO:-0600
TZNAME:CST
DTSTART:20241103T070000
END:STANDARD
BEGIN:DAYLIGHT
TZOFFSETFROM:-0600
TZOFFSETTO:-0500
TZNAME:CDT
DTSTART:20250309T080000
END:DAYLIGHT
BEGIN:STANDARD
TZOFFSETFROM:-0500
TZOFFSETTO:-0600
TZNAME:CST
DTSTART:20251102T070000
END:STANDARD
BEGIN:DAYLIGHT
TZOFFSETFROM:-0600
TZOFFSETTO:-0500
TZNAME:CDT
DTSTART:20260308T080000
END:DAYLIGHT
BEGIN:STANDARD
TZOFFSETFROM:-0500
TZOFFSETTO:-0600
TZNAME:CST
DTSTART:20261101T070000
END:STANDARD
BEGIN:DAYLIGHT
TZOFFSETFROM:-0600
TZOFFSETTO:-0500
TZNAME:CDT
DTSTART:20270314T080000
END:DAYLIGHT
BEGIN:STANDARD
TZOFFSETFROM:-0500
TZOFFSETTO:-0600
TZNAME:CST
DTSTART:20271107T070000
END:STANDARD
END:VTIMEZONE
BEGIN:VEVENT
DTSTART;TZID=America/Chicago:20260207T130000
DTEND;TZID=America/Chicago:20260207T150000
DTSTAMP:20260420T065647
CREATED:20260106T225950Z
LAST-MODIFIED:20260112T215542Z
UID:10002634-1770469200-1770476400@overtonpark.org
SUMMARY:Weed Wrangle
DESCRIPTION:Join us in protecting our ecosystem by participating in a weed wrangle with our lead invasive species volunteer\, Bill Bullock. Meet the group at the East Parkway Old Forest Gateway wearing closed toed shoes and appropriate clothing\, gloves will be provided. Hydration helps!  \n\n\n\nQuestions? \n\n\n\n\nSend us an email!
URL:https://overtonpark.org/event/weed-wrangle-3/2026-02-07/
LOCATION:East Parkway Pavilion\, 389 E. Parkway N.\, Memphis\, TN\, 38112
CATEGORIES:Feature Event,Volunteer Event
ATTACH;FMTTYPE=image/jpeg:https://overtonpark.org/wp-content/uploads/2025/06/Prog-Invasive-Volunteers.jpg
ORGANIZER;CN="Overton Park Conservancy":MAILTO:info@overtonpark.org
END:VEVENT
BEGIN:VEVENT
DTSTART;TZID=America/Chicago:20260131T130000
DTEND;TZID=America/Chicago:20260131T150000
DTSTAMP:20260420T065647
CREATED:20260129T165351Z
LAST-MODIFIED:20260129T165408Z
UID:10002633-1769864400-1769871600@overtonpark.org
SUMMARY:Weed Wrangle
DESCRIPTION:Join us in protecting our ecosystem by participating in a weed wrangle with our lead invasive species volunteer\, Bill Bullock. Meet the group at the East Parkway Old Forest Gateway wearing closed toed shoes and appropriate clothing\, gloves will be provided. Hydration helps!  \n\n\n\nQuestions? \n\n\n\n\nSend us an email!
URL:https://overtonpark.org/event/weed-wrangle-5/
LOCATION:East Parkway Pavilion\, 389 E. Parkway N.\, Memphis\, TN\, 38112
CATEGORIES:Feature Event,Volunteer Event
ATTACH;FMTTYPE=image/jpeg:https://overtonpark.org/wp-content/uploads/2025/06/Prog-Invasive-Volunteers.jpg
ORGANIZER;CN="Overton Park Conservancy":MAILTO:info@overtonpark.org
END:VEVENT
BEGIN:VEVENT
DTSTART;TZID=America/Chicago:20260124T130000
DTEND;TZID=America/Chicago:20260124T150000
DTSTAMP:20260420T065647
CREATED:20260121T155726Z
LAST-MODIFIED:20260121T160341Z
UID:10002632-1769259600-1769266800@overtonpark.org
SUMMARY:Weed Wrangle
DESCRIPTION:Join us in protecting our ecosystem by participating in a weed wrangle with our lead invasive species volunteer\, Bill Bullock. Meet the group at the East Parkway Old Forest Gateway wearing closed toed shoes and appropriate clothing\, gloves will be provided. Hydration helps!  \n\n\n\nQuestions? \n\n\n\n\nSend us an email!
URL:https://overtonpark.org/event/weed-wrangle-4/
LOCATION:East Parkway Pavilion\, 389 E. Parkway N.\, Memphis\, TN\, 38112
CATEGORIES:Feature Event,Volunteer Event
ATTACH;FMTTYPE=image/jpeg:https://overtonpark.org/wp-content/uploads/2025/06/Prog-Invasive-Volunteers.jpg
ORGANIZER;CN="Overton Park Conservancy":MAILTO:info@overtonpark.org
END:VEVENT
BEGIN:VEVENT
DTSTART;TZID=America/Chicago:20260119T090000
DTEND;TZID=America/Chicago:20260119T120000
DTSTAMP:20260420T065647
CREATED:20260112T180911Z
LAST-MODIFIED:20260112T180912Z
UID:10002630-1768813200-1768824000@overtonpark.org
SUMMARY:MLK Day of Service
DESCRIPTION:Volunteer with us on MLK Day! We’ll be spreading fresh surfacing on the limestone running trail. Meet at the East Parkway Pavilion (389 E. Parkway N.) and bring your own gloves. We’ll have coffee and donuts!
URL:https://overtonpark.org/event/mlk-day-of-service/
LOCATION:East Parkway Pavilion\, 389 E. Parkway N.\, Memphis\, TN\, 38112
CATEGORIES:Volunteer Event
ATTACH;FMTTYPE=image/jpeg:https://overtonpark.org/wp-content/uploads/2026/01/mlk-day-small.jpg
ORGANIZER;CN="Overton Park Conservancy":MAILTO:info@overtonpark.org
END:VEVENT
BEGIN:VEVENT
DTSTART;TZID=America/Chicago:20260117T130000
DTEND;TZID=America/Chicago:20260117T150000
DTSTAMP:20260420T065647
CREATED:20260106T225950Z
LAST-MODIFIED:20260112T215542Z
UID:10002631-1768654800-1768662000@overtonpark.org
SUMMARY:Weed Wrangle
DESCRIPTION:Join us in protecting our ecosystem by participating in a weed wrangle with our lead invasive species volunteer\, Bill Bullock. Meet the group at the East Parkway Old Forest Gateway wearing closed toed shoes and appropriate clothing\, gloves will be provided. Hydration helps!  \n\n\n\nQuestions? \n\n\n\n\nSend us an email!
URL:https://overtonpark.org/event/weed-wrangle-3/2026-01-17/
LOCATION:East Parkway Pavilion\, 389 E. Parkway N.\, Memphis\, TN\, 38112
CATEGORIES:Feature Event,Volunteer Event
ATTACH;FMTTYPE=image/jpeg:https://overtonpark.org/wp-content/uploads/2025/06/Prog-Invasive-Volunteers.jpg
ORGANIZER;CN="Overton Park Conservancy":MAILTO:info@overtonpark.org
END:VEVENT
BEGIN:VEVENT
DTSTART;TZID=America/Chicago:20260110T130000
DTEND;TZID=America/Chicago:20260110T150000
DTSTAMP:20260420T065647
CREATED:20260106T225950Z
LAST-MODIFIED:20260112T215542Z
UID:10002629-1768050000-1768057200@overtonpark.org
SUMMARY:Weed Wrangle
DESCRIPTION:Join us in protecting our ecosystem by participating in a weed wrangle with our lead invasive species volunteer\, Bill Bullock. Meet the group at the East Parkway Old Forest Gateway wearing closed toed shoes and appropriate clothing\, gloves will be provided. Hydration helps!  \n\n\n\nQuestions? \n\n\n\n\nSend us an email!
URL:https://overtonpark.org/event/weed-wrangle-3/2026-01-10/
LOCATION:East Parkway Pavilion\, 389 E. Parkway N.\, Memphis\, TN\, 38112
CATEGORIES:Feature Event,Volunteer Event
ATTACH;FMTTYPE=image/jpeg:https://overtonpark.org/wp-content/uploads/2025/06/Prog-Invasive-Volunteers.jpg
ORGANIZER;CN="Overton Park Conservancy":MAILTO:info@overtonpark.org
END:VEVENT
BEGIN:VEVENT
DTSTART;TZID=America/Chicago:20251221T130000
DTEND;TZID=America/Chicago:20251221T150000
DTSTAMP:20260420T065647
CREATED:20251215T191147Z
LAST-MODIFIED:20251215T191241Z
UID:10002623-1766322000-1766329200@overtonpark.org
SUMMARY:Weed Wrangle
DESCRIPTION:Join us in protecting our ecosystem by participating in a weed wrangle with our lead invasive species volunteer\, Bill Bullock. Meet the group at the East Parkway Old Forest Gateway wearing closed toed shoes and appropriate clothing\, gloves will be provided. Hydration helps!  \n\n\n\nQuestions? \n\n\n\n\nSend us an email!
URL:https://overtonpark.org/event/weed-wrangle-2/
LOCATION:East Parkway Pavilion\, 389 E. Parkway N.\, Memphis\, TN\, 38112
CATEGORIES:Feature Event,Volunteer Event
ATTACH;FMTTYPE=image/jpeg:https://overtonpark.org/wp-content/uploads/2025/06/Prog-Invasive-Volunteers.jpg
ORGANIZER;CN="Overton Park Conservancy":MAILTO:info@overtonpark.org
END:VEVENT
BEGIN:VEVENT
DTSTART;TZID=America/Chicago:20251214T130000
DTEND;TZID=America/Chicago:20251214T150000
DTSTAMP:20260420T065647
CREATED:20251208T201520Z
LAST-MODIFIED:20251211T193415Z
UID:10002556-1765717200-1765724400@overtonpark.org
SUMMARY:Weed Wrangle
DESCRIPTION:Join us in protecting our ecosystem by participating in a weed wrangle with our lead invasive species volunteer\, Bill Bullock. Meet the group at the East Parkway Old Forest Gateway wearing closed toed shoes and appropriate clothing\, gloves will be provided. Hydration helps!  \n\n\n\nQuestions? \n\n\n\n\nSend us an email!
URL:https://overtonpark.org/event/weed-wrangle/
LOCATION:East Parkway Pavilion\, 389 E. Parkway N.\, Memphis\, TN\, 38112
CATEGORIES:Feature Event,Volunteer Event
ATTACH;FMTTYPE=image/jpeg:https://overtonpark.org/wp-content/uploads/2025/06/Prog-Invasive-Volunteers.jpg
ORGANIZER;CN="Overton Park Conservancy":MAILTO:info@overtonpark.org
END:VEVENT
BEGIN:VEVENT
DTSTART;TZID=America/Chicago:20251125T160000
DTEND;TZID=America/Chicago:20251125T170000
DTSTAMP:20260420T065647
CREATED:20251105T175113Z
LAST-MODIFIED:20251114T170725Z
UID:10002553-1764086400-1764090000@overtonpark.org
SUMMARY:Nature Journaling
DESCRIPTION:Spark your curiosity\, channel your attention\, and record your wonder in Overton Park.  \nEmbark on a journey of observation and inquiry with our Nature Journaling workshop. Whether you’re a beginner or looking to deepen your practice\, this session will guide you in capturing the beauty of the natural world through writing and art. \nBring your own notebook and writing materials. We will have a limited selection of art supplies and portable seating to share.  \nCome ready to explore\, create\, and connect with nature!  \nDate: Tuesdays in October and November\, beginning October 14 \nTime: 4:00pm \nLocation: The group will meet at the Veterans Plaza (1930 Poplar Ave) \nSurfaces: Paved surfaces \n\nQuestions? Email info@overtonpark.org. \nOverton Park Conservancy is the nonprofit organization that has been caring for Memphis’s central green space since 2012. With the generous support of our community\, we work each day to make the park a beautiful and welcoming place for all Memphians\, as well as a valuable source of urban habitat for wildlife. \nThe Conservancy must raise roughly 85% of our budget each year from people like you who care about the many things Overton Park has to offer. A gift of any amount helps us maintain and improve the park.
URL:https://overtonpark.org/event/nature-journaling-3/2025-11-25/
LOCATION:East Parkway Pavilion\, 389 E. Parkway N.\, Memphis\, TN\, 38112
CATEGORIES:Art,NatureZen Month
ATTACH;FMTTYPE=image/jpeg:https://overtonpark.org/wp-content/uploads/2025/05/Nature-Journaling-scaled.jpg
ORGANIZER;CN="Overton Park Conservancy":MAILTO:info@overtonpark.org
END:VEVENT
BEGIN:VEVENT
DTSTART;TZID=America/Chicago:20251122T080000
DTEND;TZID=America/Chicago:20251122T090000
DTSTAMP:20260420T065647
CREATED:20250612T163635Z
LAST-MODIFIED:20251210T200922Z
UID:10002198-1763798400-1763802000@overtonpark.org
SUMMARY:Songbird Stroll
DESCRIPTION:There’s a Bird for Everyone! \n\n\n\nIs your top ten movie list filled with romantic films? Keep an eye out for the Ruby-throated Hummingbirds and their elaborate courtship displays!Do you enjoy a good laugh at comedy clubs? Listen for the chuckles of the White-breasted Nuthatch as it creeps up the side of a tree.Are you singing along non-stop to the Wicked album? The Carolina Wren has a big voice packed into a compact size! \n\n\n\nWhether your Life List is competitive or your favorite bird is one served by Colonel Sanders\, you are invited to join us for Songbird Strolls! Twice a month\, we’ll venture out to see what the birds are up to in the Old Forest. Experience lively avian antics\, hear the magic of migration\, and get to know your most charismatic Overton Park residents. \n\n\n\nBYO binoculars or borrow ours! Participants are encouraged to download the free birding app Merlin. We prefer that dogs be left at home for this event; they can be disruptive to birds\, and we’ll be looking and listening for subtle movements and sounds on this walk. (Dogs are welcome on our Wednesday Walks!)  \n\n\n\nDates: Second Friday and Fourth Saturday: September – November. See our Events Calendar for exact dates/cancellations.Time: 8AMLocation: Meet at the East Parkway Pavilion (389 E Parkway N)Surfaces: Roads + Limestone Gravel Loop (Natural trails depending on group considerations)
URL:https://overtonpark.org/event/songbird-stroll/2025-11-22/
LOCATION:East Parkway Pavilion\, 389 E. Parkway N.\, Memphis\, TN\, 38112
CATEGORIES:Education,Feature Event,Run/Walk
ATTACH;FMTTYPE=image/jpeg:https://overtonpark.org/wp-content/uploads/2025/05/Songbird-Strolls-scaled.jpg
ORGANIZER;CN="Overton Park Conservancy":MAILTO:info@overtonpark.org
END:VEVENT
BEGIN:VEVENT
DTSTART;TZID=America/Chicago:20251118T160000
DTEND;TZID=America/Chicago:20251118T170000
DTSTAMP:20260420T065647
CREATED:20251105T175113Z
LAST-MODIFIED:20251114T170725Z
UID:10002552-1763481600-1763485200@overtonpark.org
SUMMARY:Nature Journaling
DESCRIPTION:Spark your curiosity\, channel your attention\, and record your wonder in Overton Park.  \nEmbark on a journey of observation and inquiry with our Nature Journaling workshop. Whether you’re a beginner or looking to deepen your practice\, this session will guide you in capturing the beauty of the natural world through writing and art. \nBring your own notebook and writing materials. We will have a limited selection of art supplies and portable seating to share.  \nCome ready to explore\, create\, and connect with nature!  \nDate: Tuesdays in October and November\, beginning October 14 \nTime: 4:00pm \nLocation: The group will meet at the Veterans Plaza (1930 Poplar Ave) \nSurfaces: Paved surfaces \n\nQuestions? Email info@overtonpark.org. \nOverton Park Conservancy is the nonprofit organization that has been caring for Memphis’s central green space since 2012. With the generous support of our community\, we work each day to make the park a beautiful and welcoming place for all Memphians\, as well as a valuable source of urban habitat for wildlife. \nThe Conservancy must raise roughly 85% of our budget each year from people like you who care about the many things Overton Park has to offer. A gift of any amount helps us maintain and improve the park.
URL:https://overtonpark.org/event/nature-journaling-3/2025-11-18/
LOCATION:East Parkway Pavilion\, 389 E. Parkway N.\, Memphis\, TN\, 38112
CATEGORIES:Art,NatureZen Month
ATTACH;FMTTYPE=image/jpeg:https://overtonpark.org/wp-content/uploads/2025/05/Nature-Journaling-scaled.jpg
ORGANIZER;CN="Overton Park Conservancy":MAILTO:info@overtonpark.org
END:VEVENT
BEGIN:VEVENT
DTSTART;TZID=America/Chicago:20251114T080000
DTEND;TZID=America/Chicago:20251114T090000
DTSTAMP:20260420T065647
CREATED:20250612T163635Z
LAST-MODIFIED:20251210T200922Z
UID:10002197-1763107200-1763110800@overtonpark.org
SUMMARY:Songbird Stroll
DESCRIPTION:There’s a Bird for Everyone! \n\n\n\nIs your top ten movie list filled with romantic films? Keep an eye out for the Ruby-throated Hummingbirds and their elaborate courtship displays!Do you enjoy a good laugh at comedy clubs? Listen for the chuckles of the White-breasted Nuthatch as it creeps up the side of a tree.Are you singing along non-stop to the Wicked album? The Carolina Wren has a big voice packed into a compact size! \n\n\n\nWhether your Life List is competitive or your favorite bird is one served by Colonel Sanders\, you are invited to join us for Songbird Strolls! Twice a month\, we’ll venture out to see what the birds are up to in the Old Forest. Experience lively avian antics\, hear the magic of migration\, and get to know your most charismatic Overton Park residents. \n\n\n\nBYO binoculars or borrow ours! Participants are encouraged to download the free birding app Merlin. We prefer that dogs be left at home for this event; they can be disruptive to birds\, and we’ll be looking and listening for subtle movements and sounds on this walk. (Dogs are welcome on our Wednesday Walks!)  \n\n\n\nDates: Second Friday and Fourth Saturday: September – November. See our Events Calendar for exact dates/cancellations.Time: 8AMLocation: Meet at the East Parkway Pavilion (389 E Parkway N)Surfaces: Roads + Limestone Gravel Loop (Natural trails depending on group considerations)
URL:https://overtonpark.org/event/songbird-stroll/2025-11-14/
LOCATION:East Parkway Pavilion\, 389 E. Parkway N.\, Memphis\, TN\, 38112
CATEGORIES:Education,Feature Event,Run/Walk
ATTACH;FMTTYPE=image/jpeg:https://overtonpark.org/wp-content/uploads/2025/05/Songbird-Strolls-scaled.jpg
ORGANIZER;CN="Overton Park Conservancy":MAILTO:info@overtonpark.org
END:VEVENT
BEGIN:VEVENT
DTSTART;TZID=America/Chicago:20251113T163000
DTEND;TZID=America/Chicago:20251113T173000
DTSTAMP:20260420T065647
CREATED:20251110T212946Z
LAST-MODIFIED:20251110T213150Z
UID:10002334-1763051400-1763055000@overtonpark.org
SUMMARY:Nature Journaling
DESCRIPTION:Spark your curiosity\, channel your attention\, and record your wonder in Overton Park.  \nEmbark on a journey of observation and inquiry with our Nature Journaling workshop. Whether you’re a beginner or looking to deepen your practice\, this session will guide you in capturing the beauty of the natural world through writing and art. \nBring your own notebook and writing materials. We will have a limited selection of art supplies and portable seating to share.  \nCome ready to explore\, create\, and connect with nature!  \nDate: Tuesdays in October and November\, beginning October 14 Rescheduled to Thursday\, Nov 13 for weather. \nTime: 4:30pm \nLocation: The group will meet at the Veterans Plaza (1930 Poplar Ave) \nSurfaces: Paved surfaces \n\nQuestions? Email info@overtonpark.org. \nOverton Park Conservancy is the nonprofit organization that has been caring for Memphis’s central green space since 2012. With the generous support of our community\, we work each day to make the park a beautiful and welcoming place for all Memphians\, as well as a valuable source of urban habitat for wildlife. \nThe Conservancy must raise roughly 85% of our budget each year from people like you who care about the many things Overton Park has to offer. A gift of any amount helps us maintain and improve the park.
URL:https://overtonpark.org/event/nature-journaling-4/
LOCATION:East Parkway Pavilion\, 389 E. Parkway N.\, Memphis\, TN\, 38112
CATEGORIES:Art,NatureZen Month
ATTACH;FMTTYPE=image/jpeg:https://overtonpark.org/wp-content/uploads/2025/05/Nature-Journaling-scaled.jpg
ORGANIZER;CN="Overton Park Conservancy":MAILTO:info@overtonpark.org
END:VEVENT
BEGIN:VEVENT
DTSTART;TZID=America/Chicago:20251104T163000
DTEND;TZID=America/Chicago:20251104T173000
DTSTAMP:20260420T065647
CREATED:20250717T164944Z
LAST-MODIFIED:20250917T160510Z
UID:10002333-1762273800-1762277400@overtonpark.org
SUMMARY:Nature Journaling
DESCRIPTION:Spark your curiosity\, channel your attention\, and record your wonder in Overton Park.  \nEmbark on a journey of observation and inquiry with our Nature Journaling workshop. Whether you’re a beginner or looking to deepen your practice\, this session will guide you in capturing the beauty of the natural world through writing and art. \nBring your own notebook and writing materials. We will have a limited selection of art supplies and portable seating to share.  \nCome ready to explore\, create\, and connect with nature!  \nDate: Tuesdays in October and November\, beginning October 14 \nTime: 4:30pm \nLocation: The group will meet at the East Parkway Old Forest Gateway (389 E Parkway N) \nSurfaces: We will gently journey into the Old Forest\, and walking surfaces may include roads\, limestone gravel trails\, or natural trails within the Old Forest depending on group considerations and activities. \n\nQuestions? Email info@overtonpark.org. \nOverton Park Conservancy is the nonprofit organization that has been caring for Memphis’s central green space since 2012. With the generous support of our community\, we work each day to make the park a beautiful and welcoming place for all Memphians\, as well as a valuable source of urban habitat for wildlife. \nThe Conservancy must raise roughly 85% of our budget each year from people like you who care about the many things Overton Park has to offer. A gift of any amount helps us maintain and improve the park.
URL:https://overtonpark.org/event/nature-journaling/2025-11-04/
LOCATION:East Parkway Pavilion\, 389 E. Parkway N.\, Memphis\, TN\, 38112
CATEGORIES:Art,NatureZen Month
ATTACH;FMTTYPE=image/jpeg:https://overtonpark.org/wp-content/uploads/2025/05/Nature-Journaling-scaled.jpg
ORGANIZER;CN="Overton Park Conservancy":MAILTO:info@overtonpark.org
END:VEVENT
BEGIN:VEVENT
DTSTART;TZID=America/Chicago:20251028T163000
DTEND;TZID=America/Chicago:20251028T173000
DTSTAMP:20260420T065647
CREATED:20251028T154206Z
LAST-MODIFIED:20251028T155628Z
UID:10002332-1761669000-1761672600@overtonpark.org
SUMMARY:Nature Journaling [updated location]
DESCRIPTION:Spark your curiosity\, channel your attention\, and record your wonder in Overton Park.  \nEmbark on a journey of observation and inquiry with our Nature Journaling workshop. Whether you’re a beginner or looking to deepen your practice\, this session will guide you in capturing the beauty of the natural world through writing and art. \nBring your own notebook and writing materials. We will have a limited selection of art supplies and portable seating to share.  \nCome ready to explore\, create\, and connect with nature!  \nDate: Tuesdays in October and November\, beginning October 14 \nTime: 4:30pm \nLocation: Due to rain on 10/28\, the group will meet in the Golf Clubhouse (2080 Poplar Ave) \n  \n\nQuestions? Email info@overtonpark.org. \nOverton Park Conservancy is the nonprofit organization that has been caring for Memphis’s central green space since 2012. With the generous support of our community\, we work each day to make the park a beautiful and welcoming place for all Memphians\, as well as a valuable source of urban habitat for wildlife. \nThe Conservancy must raise roughly 85% of our budget each year from people like you who care about the many things Overton Park has to offer. A gift of any amount helps us maintain and improve the park.
URL:https://overtonpark.org/event/nature-journaling-2/
LOCATION:East Parkway Pavilion\, 389 E. Parkway N.\, Memphis\, TN\, 38112
CATEGORIES:Art,NatureZen Month
ATTACH;FMTTYPE=image/jpeg:https://overtonpark.org/wp-content/uploads/2025/05/Nature-Journaling-scaled.jpg
ORGANIZER;CN="Overton Park Conservancy":MAILTO:info@overtonpark.org
END:VEVENT
BEGIN:VEVENT
DTSTART;TZID=America/Chicago:20251025T080000
DTEND;TZID=America/Chicago:20251025T110000
DTSTAMP:20260420T065647
CREATED:20250909T190939Z
LAST-MODIFIED:20251001T181354Z
UID:10002470-1761379200-1761390000@overtonpark.org
SUMMARY:Overton Park 5 Mile Classic 50th Anniversary
DESCRIPTION:Come out and run the 50th edition of Memphis’ oldest footrace! The 5 mile course is challenging going on trails\, grass and roads through Overton Park. Start (8am) and finish will be in the East Parkway Pavilion area. Runners will receive a commemorative shirt and beer mug. Awards to the top 3 finishers in each age group\, plus Masters and Grand Masters divisions. \n\n\n\n\n7:00 am – Packet Pickup opens\n\n\n\n8:00 am – 5 Miler Starts\n\n\n\n9:15 am – Awards Ceremony\n\n\n\n\nRegister here.
URL:https://overtonpark.org/event/overton-park-5-mile-classic-50th-anniversary/
LOCATION:East Parkway Pavilion\, 389 E. Parkway N.\, Memphis\, TN\, 38112
CATEGORIES:NatureZen Month,Run/Walk
ATTACH;FMTTYPE=image/jpeg:https://overtonpark.org/wp-content/uploads/2025/09/5mileclassic.jpg
END:VEVENT
BEGIN:VEVENT
DTSTART;TZID=America/Chicago:20251021T163000
DTEND;TZID=America/Chicago:20251021T173000
DTSTAMP:20260420T065647
CREATED:20250717T164944Z
LAST-MODIFIED:20250917T160510Z
UID:10002331-1761064200-1761067800@overtonpark.org
SUMMARY:Nature Journaling
DESCRIPTION:Spark your curiosity\, channel your attention\, and record your wonder in Overton Park.  \nEmbark on a journey of observation and inquiry with our Nature Journaling workshop. Whether you’re a beginner or looking to deepen your practice\, this session will guide you in capturing the beauty of the natural world through writing and art. \nBring your own notebook and writing materials. We will have a limited selection of art supplies and portable seating to share.  \nCome ready to explore\, create\, and connect with nature!  \nDate: Tuesdays in October and November\, beginning October 14 \nTime: 4:30pm \nLocation: The group will meet at the East Parkway Old Forest Gateway (389 E Parkway N) \nSurfaces: We will gently journey into the Old Forest\, and walking surfaces may include roads\, limestone gravel trails\, or natural trails within the Old Forest depending on group considerations and activities. \n\nQuestions? Email info@overtonpark.org. \nOverton Park Conservancy is the nonprofit organization that has been caring for Memphis’s central green space since 2012. With the generous support of our community\, we work each day to make the park a beautiful and welcoming place for all Memphians\, as well as a valuable source of urban habitat for wildlife. \nThe Conservancy must raise roughly 85% of our budget each year from people like you who care about the many things Overton Park has to offer. A gift of any amount helps us maintain and improve the park.
URL:https://overtonpark.org/event/nature-journaling/2025-10-21/
LOCATION:East Parkway Pavilion\, 389 E. Parkway N.\, Memphis\, TN\, 38112
CATEGORIES:Art,NatureZen Month
ATTACH;FMTTYPE=image/jpeg:https://overtonpark.org/wp-content/uploads/2025/05/Nature-Journaling-scaled.jpg
ORGANIZER;CN="Overton Park Conservancy":MAILTO:info@overtonpark.org
END:VEVENT
END:VCALENDAR